BEGIN:VCALENDAR
VERSION:2.0
PRODID:-//Isabel Zaman - ECPv6.15.20//NONSGML v1.0//EN
CALSCALE:GREGORIAN
METHOD:PUBLISH
X-ORIGINAL-URL:https://isabelzaman.com
X-WR-CALDESC:Events for Isabel Zaman
REFRESH-INTERVAL;VALUE=DURATION:PT1H
X-Robots-Tag:noindex
X-PUBLISHED-TTL:PT1H
BEGIN:VTIMEZONE
TZID:UTC
BEGIN:STANDARD
TZOFFSETFROM:+0000
TZOFFSETTO:+0000
TZNAME:UTC
DTSTART:20240101T000000
END:STANDARD
END:VTIMEZONE
BEGIN:VEVENT
DTSTART;TZID=UTC:20250713T000000
DTEND;TZID=UTC:20250713T235900
DTSTAMP:20260420T115521
CREATED:20250712T133329Z
LAST-MODIFIED:20250802T092514Z
UID:6584-1752364800-1752451140@isabelzaman.com
SUMMARY:ART talk with Isabel Zaman
DESCRIPTION:Arte & Letras Con Causa\nART talk with Isabel Zaman.\nDate: Domingo 13 de julio.\nTime: 3.00 PM.\nPlace: Case de ta Cultura.
URL:https://isabelzaman.com/event/art-talk-with-isabel-zaman/
LOCATION:Case de ta Cultura
CATEGORIES:Art Talk,Seminar Events
ATTACH;FMTTYPE=image/jpeg:https://isabelzaman.com/wp-content/uploads/2025/08/Isabel-Zaman_13th-July-Art-Exhibition-1.jpg
END:VEVENT
END:VCALENDAR